Workbook

Sheet 様式１バス
A1: 自主点検表（バス）
D2: 事業所名：
D3: 点検実施日：
A5: 重 点 点 検 事 項 | C5: 点検結果 | D5: 問題点があればその内容と講じた措置等
A6: １． | B6: 軽井沢スキーバス事故を踏まえた貸切バスの安全対策の実施状況（「安全・安心な貸切バスの運行を実現するための総合的な対策」に係る点検事項） | C6: ※貸切バス事業者に限ります。
A7: (1) | B7: 選任すべき運行管理者の数を満たしているか。また、補助者を選任している場合は、国に届出を行っているか。
A8: (2) | B8: 「ドライブレコーダーにより記録すべき情報及びドライブレコーダーの性能要件を定める告示」に定める要件を満たすドライブレコーダーの記録を利用した運転者への指導・監督を実施しているか。
A9: (3) | B9: すべての初任運転者及び事故惹起運転者に適性診断を受診させ、実技訓練等の指導・監督を実施しているか。（該当者がいない場合、実施体制を構築済みであれば「〇」、そうでなければ「×」を記載。）
A10: (4) | B10: 運転者に直近１年間に乗務していなかった車種区分の自動車を運転させる場合に、初任運転者と同様の指導・監督を実施しているか。（該当者がいない場合、実施体制を構築済みであれば「〇」、そうでなければ「×」を記載。）
A11: (5) | B11: 夜間、長距離の運行等、乗務の途中に点呼が必要な場合に、確実に実施しているか。（該当の運行がない場合は「〇」を記載。）
A12: (6) | B12: 乗客の安全を確保するため、シートベルトを座席に埋没させないなど、乗客が常時着用することができる状態にしているか。
A13: (7) | B13: 車内放送、リーフレット等により乗客にシートベルトの着用を促すとともに、発車前に乗客のシートベルトの着用状況を目視等により確認しているか。
A14: (8) | B14: 乗客等の安全・安心確保の観点から、運賃・料金制度を遵守しているか。
A15: (9) | B15: 貸切バス予防整備ガイドラインに基づく整備サイクル表を作成し、適切な予防整備を実施しているか。
A16: (10) | B16: 点呼を確実に実施しているか。
A17: (11) | B17: 適切な運行計画を作成し、運転者に指示をしているか。
A18: (12) | B18: 適切な運転操作や道路交通法等の法令遵守の徹底等運行の安全を確保するために遵守すべき事項について指導しているか。（フットブレーキの使い方に関する指導を含む。）
... A53: (3) | B53: 大雪及び暴風雪に備え、冬用タイヤの装着、チェーンの携行及び早めの装着の徹底等、輸送の安全確保が図られているか。 なお、降積雪期において降雪地域を運行しない場合は「〇」を記載する。
A54: 点 検 事 項 | C54: 点検結果 | D54: 問題点があればその内容と講じた措置等
A55: １． | B55: 点呼の実施、運転者に対する指導監督の実施状況
A56: (1) | B56: 点呼の際、運転者の運転免許証の携行及び有効期限の確認を確実に行うとともに、運行経路の指示や、あおり運転の禁止等道路交通法の遵守について、十分な指導・監督を行うなど事故防止対策が図られているか。
A57: (2) | B57: 適性診断結果を活用した指導を行っているか。特に、高齢の運転者に対し、加齢に伴う身体機能の変化の程度に応じた安全な運転方法について指導を行っているか。
A58: (3) | B58: 事故が発生した際は、その事故の実態を確実に把握し、十分な指導・監督を行うなど事故防止対策が図られているか。
A59: (4) | B59: 運転中の携帯電話、スマートフォンの使用禁止について、運転者に対し指導・監督を行っているか。
A60: (7) | B60: 交差点での右左折時をはじめとした歩行者等との事故を防止するため、運転者に対し、以下の事項を徹底しているか。 ・自動車の構造上の特性（視野、死角、内輪差、等）を理解させ、直前、側方、後方などの見えない部分に配慮した運転が必要であることを認識させること。 ・道路には、歩行者や自転車などが通行しており、それぞれの行動を理解し走行時に配慮することにより、事故を回避できることを認識させること。 ・歩道側の植え込みなどにより見通しの悪い交差点では、歩行者や自転車が飛び出してくる可能性が高いことから、一時停止または徐行し、注意して走行することが必要であることを認識させること。
A61: （8） | B61: 路上横臥者との轢過事故等を防止するため、夕暮れ時における前照灯の早めの点灯及び、暗い道等での走行用前照灯（上向き）とすれ違い用前照灯（下向き）の小まめな切替えを励行すること。
A62: ４． | B62: 自然災害、事故等発生時の乗客等の安全確保のための通報・連絡・指示体制の整備・構築状況
A63: (1) | B63: 自然災害・事故・事件等発生時（テロ発生時を除く。）における対応措置（連絡通報体制、避難誘導体制等）を整備・構築し、これらが機能するよう、実践的な訓練を実施しているか。
A64: (2) | B64: 自然災害の発生に備えて、営業所や車庫、車両等の安全確保のための措置を講じているか。
A65: (4) | B65: 「自動車運送事業者等用緊急時対応マニュアル」にある速報対象となる事故・事件が発生した場合、当該マニュアルに従い、速やかに各地方運輸支局等緊急連絡担当先へ連絡できる体制を整えているか。
A66: (5) | B66: 貸切バス事業者においては損害賠償責任保険のてん補する額に制限がない内容となっているか。
... A76: (３) | B76: インフルエンザ等の流行に備え、中核となる事業の継続あるいは早期復旧を可能とするために、平常時に行うべき活動や緊急時における事業継続のための方法、手段などを取り決めておく事業継続計画、または対応マニュアルが策定されているか。
A78: 点 検 項 目 | C78: 実施回数 | D78: 備 考
A79: 総点検期間中に経営トップ等の幹部が現場視察を実施した回数
A80: 注）「点検結果」欄には○（良好）、×（改善を要する）を記入下さい。

Sheet 様式１ハイタク
A1: 自主点検表（ハイタク）
D2: 事業所名：
D3: 点検実施日：
A5: 重 点 点 検 事 項 | C5: 点検結果 | D5: 問題点があればその内容と講じた措置等
A6: ２． | B6: 健康管理体制の状況
A7: (1) | B7: 定期健康診断において、要再検査や要精密検査、要治療の所見がある場合には、当該運転者に医師の診断等を受けさせ、医師の判断により必要に応じて、所見に応じた検査を受診させるとともに、これらの結果を把握し、医師から結果に基づく運転者の乗務に係る意見を聴取しているか。（上記所見がない場合は○を記載。）
A8: (2) | B8: 医師からの意見等を勘案し、運転者について、乗務の継続、業務転換、乗務時間の短縮、夜間乗務の回数の削減等の就業上の措置を決定するとともに、当該運転者の健康状態を継続的に把握しているか。
A9: (3) | B9: 「事業用自動車の運転者の健康管理マニュアル」に記載されている乗務中における運行中止の判断目安等に従って、以下の事項を適切に実施するための体制を整備しているか。 ・乗務前点呼において、運転者が安全に乗務できる健康状態かどうかを判断し、乗務の可否を決定 ・運行中の運転者の体調変化等による運行中止等の判断・指示
A10: (4) | B10: 運転者に対して運行中に体調の異変を感じた時に、無理に運行を続けると非常に危険であることを理解させ、運行中に体調の異常を少しでも感じた場合、速やかに営業所に連絡する等の指導を徹底しているか。
A11: (5) | B11: 脳・心疾患や睡眠障害等の運転に支障を及ぼすおそれのある疾病等の着実かつ早期の発見のため、当該疾病に関するスクリーニング検査等を運転者に受診させているか。 （「事業用自動車の運転者の健康管理マニュアル」において推奨事項としていることから、実施している又は検討中の場合は「○」、実施していない又は検討していない場合は「×」を記載。）
A12: ３． | B12: =様式１バス!B27 -> 運転者に過労運転を行わせないための安全対策の実施状況
A13: (1) | B13: 「自動車運転者の労働時間等の改善のための基準」告示の内容（特に長距離運転又は夜間運転の際の乗務時間）を遵守しているか。
A14: ４． | B14: =様式１バス!B31 -> 運転者に飲酒運転や薬物運転等を行わせないための安全対策の実施状況
A15: (1) | B15: 飲酒運転を未然に防ぐため、アルコール検知器の使用を徹底し、乗務前及び乗務後に厳正な点呼を実施しているか。
A16: (2) | B16: 運転者等に対して、飲酒運転防止に対する指導・啓発活動を実施しているか。
A17: (3) | B17: 飲酒を習慣にしている運転者等を把握し、翌日に乗務がある場合の飲酒等について指導しているか。
A18: (4) | B18: 覚せい剤や危険ドラッグ等の薬物使用防止に対する指導・啓発活動を実施しているか。
A19: (5) | B19: 運行経路にフェリーを組み入れている場合には、抜き打ちでフェリーに乗船するなどにより、乗船中の運転者の飲酒の有無など休息状況を点検しているか。（運行経路にフェリーを組み入れていない場合は○を記載。）
A20: (6) | B20: 飲酒の習慣のある運転者に対し、「アルコール依存症スクリーニングテスト」等により運転者のアルコール依存傾向を把握し適切な指導及び監督を行っているか。 依存症スクリーニングテスト（(独)久里浜医療センター） URL：https://kurihama.hosp.go.jp/hospital/screening/
A21: (7) | B21: アルコールへの依存傾向を把握するため、特に影響があるとされる肝機能や尿酸等の健康診断結果を確認するとともに、アルコール依存の疑いがある運転者に対し指導を行っているか。
A22: ５． | B22: =様式１バス!B39 -> 車両の日常点検整備、定期点検整備等の実施状況
A23: (１) | B23: 車輪脱落事故や車両火災事故及び車体腐食事故をはじめとした整備不良事故を防ぐため、自動車点検基準に基づく日常点検及び定期点検が確実に実施されているか。
A24: (２) | B24: 自動車の点検整備等に関する社内規程の内容について、整備管理者や整備担当者、運転者等への周知徹底が図られているか。
A25: ６． | B25: =様式１バス!B50 -> 大雪に対する輸送の安全確保の実施状況
A26: （1） | B26: 気象情報（大雪や雪崩、暴風雪等に関する警報・注意報を含む。）や道路における降雪状況等を適時に把握することにより、運行経路の道路情報、道路規制情報、気象情報に基づき、乗務員に適切な指示を行える体制を構築しているか。 なお、降積雪期において降雪地域を運行しない場合は「〇」を記載する。
A27: (2) | B27: 冬用タイヤの溝の深さが、タイヤ製作者の推奨する使用限度を超えていないことの確認を行っているか。 なお、降積雪期において降雪地域を運行しない場合は「〇」を記載する。
A28: (3) | B28: 大雪及び暴風雪に備え、冬用タイヤの装着、チェーンの携行及び早めの装着の徹底等、輸送の安全確保が図られているか。 なお、降積雪期において降雪地域を運行しない場合は「〇」を記載する。
A29: 点検事項 | C29: 点検結果 | D29: 問題点があればその内容と講じた措置等
A30: １． | B30: =様式１バス!B55 -> 点呼の実施、運転者に対する指導監督の実施状況
A31: (1) | B31: 点呼の際、運転者の運転免許証の携行及び有効期限の確認を確実に行うとともに、運行経路の指示や、あおり運転の禁止等道路交通法の遵守について、十分な指導・監督を行うなど事故防止対策が図られているか。
A32: (2) | B32: 適性診断結果を活用した指導を行っているか。特に、高齢の運転者に対し、加齢に伴う身体機能の変化の程度に応じた安全な運転方法について指導を行っているか。
A33: (3) | B33: 事故が発生した際は、その事故の実態を確実に把握し、十分な指導・監督を行うなど事故防止対策が図られているか。
A34: (4) | B34: 運転中の携帯電話、スマートフォンの使用禁止について、運転者に対し指導・監督を行っているか。
A35: (7) | B35: 交差点での右左折時をはじめとした歩行者等との事故を防止するため、運転者に対し、以下の事項を徹底しているか。 ・自動車の構造上の特性（視野、死角、内輪差、等）を理解させ、直前、側方、後方などの見えない部分に配慮した運転が必要であることを認識させること。 ・道路には、歩行者や自転車などが通行しており、それぞれの行動を理解し走行時に配慮することにより、事故を回避できることを認識させること。 ・歩道側の植え込みなどにより見通しの悪い交差点では、歩行者や自転車が飛び出してくる可能性が高いことから、一時停止または徐行し、注意して走行することが必要であることを認識させること。
A36: （8） | B36: 路上横臥者との轢過事故等を防止するため、夕暮れ時における前照灯の早めの点灯及び、暗い道等での走行用前照灯（上向き）とすれ違い用前照灯（下向き）の小まめな切替えを励行すること。
A37: ４． | B37: =様式１バス!B62 -> 自然災害、事故等発生時の乗客等の安全確保のための通報・連絡・指示体制の整備・構築状況
A38: (1) | B38: 自然災害・事故・事件等発生時（テロ発生時を除く。）における対応措置（連絡通報体制、避難誘導体制等）を整備・構築し、これらが機能するよう、実践的な訓練を実施しているか。
A39: (2) | B39: 自然災害の発生に備えて、営業所や車庫、車両等の安全確保のための措置を講じているか。
A40: (4) | B40: 「自動車運送事業者等用緊急時対応マニュアル」にある速報対象となる事故・事件が発生した場合、当該マニュアルに従い、速やかに各地方運輸支局等緊急連絡担当先へ連絡できる体制を整えているか。
A41: ５． | B41: =様式１バス!B67 -> テロ防止のための警戒体制の整備状況や乗客等の安心確保のための取組、テロ発生時の通報・連絡・指示体制の整備状況及びテロ発生を想定した訓練の実施状況
A42: (1) | B42: 始業・終業時等における車内の点検及び営業所・車庫内外の巡回が徹底して実施されているか。
A43: (2) | B43: 不審者情報の入手及び不審な宅配便等貨物を発見した場合の警察への連絡等適切に対応できる体制が整っているか。
A44: ６． | B44: =様式１バス!B73 -> 新型インフルエンザ等の対応マニュアル、事業継続計画の策定状況、対策に必要な物資等の備蓄状況及び職場における感染防止対策の周知・徹底状況などの感染症対策の実施状況
A45: (1) | B45: ポスター類の掲示、放送などにより、公共交通機関の車内・構内等におけるマスク着用、咳エチケット等を呼びかけているか。
A46: (2) | B46: 職場内におけるうがい、手洗い及び消毒用アルコールを使用した手指消毒の徹底が図られているか。
A47: (3) | B47: インフルエンザ等の流行に備え、中核となる事業の継続あるいは早期復旧を可能とするために、平常時に行うべき活動や緊急時における事業継続のための方法、手段などを取り決めておく事業継続計画、または対応マニュアルが策定されているか。
A49: 点 検 項 目 | C49: 実施回数 | D49: 備 考
A50: 総点検期間中に経営トップ等の幹部が現場視察を実施した回数
A51: 注）「点検結果」欄には○（良好）、×（改善を要する）を記入下さい。
F59: - | H59: -
H60: -

Sheet 様式１個タク 
A1: 自主点検表（個タク）
D2: 事業所名：
D3: 点検実施日：
A5: 重 点 点 検 事 項 | C5: 点検結果 | D5: 問題点があればその内容と講じた措置等
A6: ２． | B6: 健康管理体制の状況
A7: (1) | B7: 定期健康診断において、要再検査や要精密検査、要治療の所見がある場合には、医師の診断等を受け、医師の判断により必要に応じて、所見に応じた検査を受診するとともに、これらの結果を把握し、医師から結果に基づく乗務に係る意見を聴取しているか。（上記所見がない場合は○を記載。）
A8: (2) | B8: 医師からの意見等を勘案し、乗務の継続、乗務時間の短縮、夜間乗務の回数の削減等の就業上の措置を決定するとともに、健康状態を継続的に把握しているか。
A9: (3) | B9: 「事業用自動車の運転者の健康管理マニュアル」に記載されている乗務中における運行中止の判断目安等に従って、以下の事項を適切に実施しているか。 ・乗務前点呼において、安全に乗務できる健康状態かどうかを判断し、乗務の可否を決定 ・運行中の体調変化等による運行中止等の判断
A10: (4) | B10: 運行中に体調の異変を感じた時に、無理に運行を続けると非常に危険であることを理解しているか。
A11: (5) | B11: 脳・心疾患や睡眠障害等の運転に支障を及ぼすおそれのある疾病等の着実かつ早期の発見のため、当該疾病に関するスクリーニング検査等を受診しているか。 （「事業用自動車の運転者の健康管理マニュアル」において推奨事項としていることから、実施している又は検討中の場合は「○」、実施していない又は検討していない場合は「×」を記載。）
A12: ３． | B12: =様式１バス!B27 -> 運転者に過労運転を行わせないための安全対策の実施状況
A13: (1) | B13: 「自動車運転者の労働時間等の改善のための基準」告示の内容を遵守しているか。
A14: ４． | B14: =様式１バス!B31 -> 運転者に飲酒運転や薬物運転等を行わせないための安全対策の実施状況
A15: (1) | B15: 運行前にアルコール検知器を使用し、酒気帯びの可能性が無いか確認しているか。
A16: (2) | B16: 飲酒運転に関する法規制や、アルコールの体内分解処理に要する時間等を理解しているか。
A17: (3) | B17: 飲酒を習慣にしている場合は、翌日の運行に影響がないよう飲酒・酒量を控えているか。
A18: (4) | B18: 覚せい剤や危険ドラッグ等の危険性を認識し、絶対に使用してはならないことを認識しているか。
A19: (5) | B19: 「アルコール依存症スクリーニングテスト」等によりアルコール依存傾向を把握しているか。 依存症スクリーニングテスト（(独)久里浜医療センター） URL：https://kurihama.hosp.go.jp/hospital/screening/
A20: (6) | B20: アルコールへの依存傾向を把握するため、特に影響があるとされる肝機能や尿酸等の健康診断結果を確認しているか。
A21: ５． | B21: =様式１バス!B39 -> 車両の日常点検整備、定期点検整備等の実施状況
A22: (１) | B22: 車輪脱落事故や車両火災事故及び車体腐食事故をはじめとした整備不良事故を防ぐため、自動車点検基準に基づく日常点検及び定期点検が確実に実施されているか。
A23: 6． | B23: 大雪に対する輸送の安全確保の実施状況
A24: （1） | B24: 気象情報（大雪や雪崩、暴風雪等に関する警報・注意報を含む。）や道路における降雪状況等を適時に把握することにより、運行経路の道路情報、道路規制情報、気象情報に基づき、乗務員に適切な指示を行える体制を構築しているか。 なお、降積雪期において降雪地域を運行しない場合は「〇」を記載する。
A25: （2） | B25: 冬用タイヤの溝の深さが、タイヤ製作者の推奨する使用限度を超えていないことの確認を行っているか。 なお、降積雪期において降雪地域を運行しない場合は「〇」を記載する。
A26: (3) | B26: 大雪及び暴風雪に備え、冬用タイヤの装着、チェーンの携行及び早めの装着の徹底等、輸送の安全確保が図られているか。 なお、降積雪期において降雪地域を運行しない場合は「〇」を記載する。
A27: 点検事項 | C27: 点検結果 | D27: 問題点があればその内容と講じた措置等
A28: １． | B28: =様式１バス!B55 -> 点呼の実施、運転者に対する指導監督の実施状況
A29: (1) | B29: 点呼の際、運転免許証の携行及び有効期限の確認を確実に行うとともに、運行経路の指示や、あおり運転の禁止等道路交通法の遵守について、事故防止対策を図っているか。
A30: (2) | B30: 適性診断結果を踏まえた安全運転に努めているか。特に、高齢の運転者は、加齢に伴う身体機能の変化に応じた安全運転を心掛けているか。
A31: (3) | B31: 事故が発生した際は、その事故の実態を確実に把握し、再発防止に努めているか。
A32: (4) | B32: 運転中の携帯電話、スマートフォンの使用禁止について遵守しているか。
A33: (7) | B33: 交差点での右左折時をはじめとした歩行者等との事故を防止するため、以下の事項を徹底しているか。 ・自動車の構造上の特性（視野、死角、内輪差、等）を理解し、直前、側方、後方などの見えない部分に配慮した運転が必要であることを認識すること。 ・道路には、歩行者や自転車などが通行しており、それぞれの行動を理解し走行時に配慮することにより、事故を回避できることを認識すること。 ・歩道側の植え込みなどにより見通しの悪い交差点では、歩行者や自転車が飛び出してくる可能性が高いことから、一時停止または徐行し、注意して走行することが必要であることを認識すること。
A34: (8) | B34: 路上横臥者との轢過事故等を防止するため、夕暮れ時における前照灯の早めの点灯及び、暗い道等での走行用前照灯（上向き）とすれ違い用前照灯（下向き）の小まめな切替えを励行すること。
A35: ４． | B35: =様式１バス!B62 -> 自然災害、事故等発生時の乗客等の安全確保のための通報・連絡・指示体制の整備・構築状況
A36: (1) | B36: 自然災害・事故・事件等発生時（テロ発生時を除く。）における対応措置（連絡通報体制、避難誘導体制等）を整備・構築し、これらが機能するよう、実践的な訓練を実施しているか。
A37: (2) | B37: 自然災害の発生に備えて、営業所や車庫、車両等の安全確保のための措置を講じているか。
A38: (4) | B38: 「自動車運送事業者等用緊急時対応マニュアル」にある速報対象となる事故・事件が発生した場合、当該マニュアルに従い、速やかに各地方運輸支局等緊急連絡担当先へ連絡できる体制を整えているか。
A39: ５． | B39: =様式１バス!B67 -> テロ防止のための警戒体制の整備状況や乗客等の安心確保のための取組、テロ発生時の通報・連絡・指示体制の整備状況及びテロ発生を想定した訓練の実施状況
A40: (1) | B40: 始業・終業時等における車内の点検及び車庫内外の巡回が徹底して実施されているか。
A41: (2) | B41: 不審者情報の入手及び不審物を発見した場合の警察への連絡等適切に対応できる体制が整っているか。
A42: ６． | B42: =様式１バス!B73 -> 新型インフルエンザ等の対応マニュアル、事業継続計画の策定状況、対策に必要な物資等の備蓄状況及び職場における感染防止対策の周知・徹底状況などの感染症対策の実施状況
A43: (1) | B43: ポスター類の掲示、放送などにより、車内等におけるマスク着用、咳エチケット等を呼びかけているか。
A44: (2) | B44: 職場内におけるうがい、手洗い及び消毒用アルコールを使用した手指消毒の徹底が図られているか。
A45: (3) | B45: インフルエンザ等の流行に備え、中核となる事業の継続あるいは早期復旧を可能とするために、平常時に行うべき活動や緊急時における事業継続のための方法、手段などを取り決めておく事業継続計画、または対応マニュアルが策定されているか。
A47: 注）「点検結果」欄には○（良好）、×（改善を要する）を記入下さい。
H58: -
H59: -

Sheet 様式１個タク（記載例）
A1: 自主点検表（個タク）
D2: 事業所名：
D3: 点検実施日：
A5: 重 点 点 検 事 項 | C5: 点検結果 | D5: 問題点があればその内容と講じた措置等
A6: ２． | B6: 健康管理体制の状況
A7: (1) | B7: 定期健康診断において、要再検査や要精密検査、要治療の所見がある場合には、医師の診断等を受け、医師の判断により必要に応じて、所見に応じた検査を受診するとともに、これらの結果を把握し、医師から結果に基づく乗務に係る意見を聴取しているか。（上記所見がない場合は○を記載。） | C7: ○
A8: (2) | B8: 医師からの意見等を勘案し、乗務の継続、乗務時間の短縮、夜間乗務の回数の削減等の就業上の措置を決定するとともに、健康状態を継続的に把握しているか。 | C8: ○
A9: (3) | B9: 「事業用自動車の運転者の健康管理マニュアル」に記載されている乗務中における運行中止の判断目安等に従って、以下の事項を適切に実施しているか。 ・乗務前点呼において、安全に乗務できる健康状態かどうかを判断し、乗務の可否を決定 ・運行中の体調変化等による運行中止等の判断 | C9: ○
A10: (4) | B10: 運行中に体調の異変を感じた時に、無理に運行を続けると非常に危険であることを理解しているか。 | C10: ○
A11: (5) | B11: 脳・心疾患や睡眠障害等の運転に支障を及ぼすおそれのある疾病等の着実かつ早期の発見のため、当該疾病に関するスクリーニング検査等を受診しているか。 （「事業用自動車の運転者の健康管理マニュアル」において推奨事項としていることから、実施している又は検討中の場合は「○」、実施していない又は検討していない場合は「×」を記載。） | C11: ○
A12: ３． | B12: =様式１バス!B27 -> 運転者に過労運転を行わせないための安全対策の実施状況
A13: (1) | B13: 「自動車運転者の労働時間等の改善のための基準」告示の内容を遵守しているか。 | C13: ○
A14: ４． | B14: =様式１バス!B31 -> 運転者に飲酒運転や薬物運転等を行わせないための安全対策の実施状況
A15: (1) | B15: 運行前にアルコール検知器を使用し、酒気帯びの可能性が無いか確認しているか。 | C15: ○
A16: (2) | B16: 飲酒運転に関する法規制や、アルコールの体内分解処理に要する時間等を理解しているか。 | C16: ○
A17: (3) | B17: 飲酒を習慣にしている場合は、翌日の運行に影響がないよう飲酒・酒量を控えているか。 | C17: ○
A18: (4) | B18: 覚せい剤や危険ドラッグ等の危険性を認識し、絶対に使用してはならないことを認識しているか。 | C18: ○
A19: (5) | B19: 「アルコール依存症スクリーニングテスト」等によりアルコール依存傾向を把握しているか。 依存症スクリーニングテスト（(独)久里浜医療センター） URL：https://kurihama.hosp.go.jp/hospital/screening/ | C19: ○
A20: (6) | B20: アルコールへの依存傾向を把握するため、特に影響があるとされる肝機能や尿酸等の健康診断結果を確認しているか。 | C20: ○
A21: ５． | B21: =様式１バス!B39 -> 車両の日常点検整備、定期点検整備等の実施状況
A22: (1) | B22: ① 車輪脱落事故や車両火災事故及び車体腐食事故をはじめとした整備不良事故を防ぐため、自動車点検基準に基づく日常点検及び定期点検が実施されているか。 | C22: ○
B23: ② 自動車の点検整備等に関する社内規程の内容について、整備管理者等への周知徹底が図られているか。 | C23: ○
A24: 6． | B24: =様式１バス!B50 -> 大雪に対する輸送の安全確保の実施状況
A25: （1） | B25: 気象情報（大雪や雪崩、暴風雪等に関する警報・注意報を含む。）や道路における降雪状況等を適時に把握することにより、運行経路の道路情報、道路規制情報、気象情報に基づき、乗務員に適切な指示を行える体制を構築しているか。 なお、降積雪期において降雪地域を運行しない場合は「〇」を記載する。 | C25: ○
A26: (2) | B26: 大雪及び暴風雪に備え、冬用タイヤの装着、チェーンの携行及び早めの装着の徹底等、輸送の安全確保が図られているか。 なお、降積雪期において降雪地域を運行しない場合は「〇」を記載する。 | C26: ○
A27: 点検事項 | C27: 点検結果 | D27: 問題点があればその内容と講じた措置等
A28: １． | B28: =様式１バス!B55 -> 点呼の実施、運転者に対する指導監督の実施状況
A29: (1) | B29: 点呼の際、運転免許証の携行及び有効期限の確認を確実に行うとともに、運行経路の指示や、あおり運転の禁止等道路交通法の遵守について、事故防止対策を図っているか。 | C29: × | D29: 有効期限の確認を行っていなかったため、目のつく場所に有効期限を掲示した。
A30: (2) | B30: 適性診断結果を踏まえた安全運転に努めているか。特に、高齢の運転者は、加齢に伴う身体機能の変化に応じた安全運転を心掛けているか。 | C30: × | D30: 受診後見直しをしていなかったため、これを期に見直しした。今後も定期的に見直し、自分の短所を踏まえた安全運転を心掛ける
A31: (3) | B31: 事故が発生した際は、その事故の実態を確実に把握し、再発防止に努めているか。
A32: (4) | B32: 運転中の携帯電話、スマートフォンの使用禁止について遵守しているか。
A33: (7) | B33: 交差点での右左折時をはじめとした歩行者等との事故を防止するため、以下の事項を徹底しているか。 ・自動車の構造上の特性（視野、死角、内輪差、等）を理解し、直前、側方、後方などの見えない部分に配慮した運転が必要であることを認識すること。 ・道路には、歩行者や自転車などが通行しており、それぞれの行動を理解し走行時に配慮することにより、事故を回避できることを認識すること。 ・歩道側の植え込みなどにより見通しの悪い交差点では、歩行者や自転車が飛び出してくる可能性が高いことから、一時停止または徐行し、注意して走行することが必要であることを認識すること。
A34: ４． | B34: =様式１バス!B62 -> 自然災害、事故等発生時の乗客等の安全確保のための通報・連絡・指示体制の整備・構築状況
A35: (1) | B35: 自然災害・事故・事件等発生時（テロ発生時を除く。）における対応措置（連絡通報体制、避難誘導体制等）を整備・構築し、これらが機能するよう、実践的な訓練を実施しているか。 | C35: ○
A36: (2) | B36: 自然災害の発生に備えて、営業所や車庫、車両等の安全確保のための措置を講じているか。 | C36: ○
A37: (4) | B37: 「自動車運送事業者等用緊急時対応マニュアル」にある速報対象となる事故・事件が発生した場合、当該マニュアルに従い、速やかに各地方運輸支局等緊急連絡担当先へ連絡できる体制を整えているか。 | C37: ○
A38: ５． | B38: =様式１バス!B67 -> テロ防止のための警戒体制の整備状況や乗客等の安心確保のための取組、テロ発生時の通報・連絡・指示体制の整備状況及びテロ発生を想定した訓練の実施状況
A39: (1) | B39: 始業・終業時等における車内の点検及び営業所・車庫内外の巡回が徹底して実施されているか。 | C39: ○
A40: (2) | B40: 不審者情報の入手及び不審物を発見した場合の警察への連絡等適切に対応できる体制が整っているか。 | C40: ○
A41: ６． | B41: 新型インフルエンザ等の対応マニュアル、事業継続計画の策定状況、対策に必要な物資等の備蓄状況及び職場における感染防止対策の周知・徹底状況などの感染症対策の実施状況
A42: (1) | B42: ポスター類の掲示、放送などにより、公共交通機関の車内・構内等におけるマスク着用、咳エチケット等を呼びかけているか。 | C42: ○
A43: (2) | B43: 職場内におけるうがい、手洗い及び消毒用アルコールを使用した手指消毒の徹底が図られているか。 | C43: ○
A44: (3) | B44: インフルエンザ等の流行に備え、中核となる事業の継続あるいは早期復旧を可能とするために、平常時に行うべき活動や緊急時における事業継続のための方法、手段などを取り決めておく事業継続計画、または対応マニュアルが策定されているか。 | C44: ○
A46: 注）「点検結果」欄には○（良好）、×（改善を要する）を記入下さい。

Sheet 様式1トラック
A1: 自主点検表（トラック）
D2: 事業所名：
D3: 点検実施日：
A5: 重 点 点 検 事 項 | C5: 点検結果 | D5: 問題点があればその内容と講じた措置等
A6: ２． | B6: 健康管理体制の状況
A7: (1) | B7: 定期健康診断において、要再検査や要精密検査、要治療の所見がある場合には、当該運転者に医師の診断等を受けさせ、医師の判断により必要に応じて、所見に応じた検査を受診させるとともに、これらの結果を把握し、医師から結果に基づく運転者の乗務に係る意見を聴取しているか。（上記所見がない場合は○を記載。）
A8: (2) | B8: 医師からの意見等を勘案し、運転者について、乗務の継続、業務転換、乗務時間の短縮、夜間乗務の回数の削減等の就業上の措置を決定するとともに、当該運転者の健康状態を継続的に把握しているか。
A9: (3) | B9: 「事業用自動車の運転者の健康管理マニュアル」に記載されている乗務中における運行中止の判断目安等に従って、以下の事項を適切に実施するための体制を整備しているか。 ・乗務前点呼において、運転者が安全に乗務できる健康状態かどうかを判断し、乗務の可否を決定 ・運行中の運転者の体調変化等による運行中止等の判断・指示
A10: (4) | B10: 運転者に対して運行中に体調の異変を感じた時に、無理に運行を続けると非常に危険であることを理解させ、運行中に体調の異常を少しでも感じた場合、速やかに営業所に連絡する等の指導を徹底しているか。
A11: (5) | B11: 脳・心疾患や睡眠障害等の運転に支障を及ぼすおそれのある疾病等の着実かつ早期の発見のため、当該疾病に関するスクリーニング検査等を運転者に受診させているか。 （「事業用自動車の運転者の健康管理マニュアル」において推奨事項としていることから、実施している又は検討中の場合は「○」、実施していない又は検討していない場合は「×」を記載。）
A12: ３． | B12: 運転者に過労運転を行わせないための安全対策の実施状況
A13: (1) | B13: 「自動車運転者の労働時間等の改善のための基準」告示の内容（特に長距離運転又は夜間運転の際の乗務時間）を遵守しているか。
A14: (2) | B14: 適切な運行指示書の作成及び適切な指示をしているか。
A15: ４． | B15: 運転者に飲酒運転や薬物運転等を行わせないための安全対策の実施状況
A16: (1) | B16: 飲酒運転を未然に防ぐため、アルコール検知器の使用を徹底し、乗務前及び乗務後に厳正な点呼を実施しているか。
A17: (2) | B17: 運転者等に対して、飲酒運転防止に対する指導・啓発活動を実施しているか。
... A35: (12) | B35: スペアタイヤ取付装置、スペアタイヤの取付状態、ツールボックスの取付部について３ヶ月毎の定期点検を実施しているか。 （車両総重量８トン以上又は乗車定員３０人以上の自動車に限る。対象車両を所有していない場合は○を記載。）
A36: 6． | B36: =様式１バス!B50 -> 大雪に対する輸送の安全確保の実施状況
A37: （1） | B37: 気象情報（大雪や雪崩、暴風雪等に関する警報・注意報を含む。）や道路における降雪状況等を適時に把握することにより、運行経路の道路情報、道路規制情報、気象情報に基づき、乗務員に適切な指示を行える体制を構築しているか。 なお、降積雪期において降雪地域を運行しない場合は「〇」を記載する。
A38: （2） | B38: 冬用タイヤの溝の深さが、タイヤ製作者の推奨する使用限度を超えていないことの確認を行っているか。 なお、降積雪期において降雪地域を運行しない場合は「〇」を記載する。
A39: (3) | B39: 大雪及び暴風雪に備え、冬用タイヤの装着、チェーンの携行及び早めの装着の徹底等、輸送の安全確保が図られているか。 なお、降積雪期において降雪地域を運行しない場合は「〇」を記載する。
A40: 点 検 事 項 | C40: 点検結果 | D40: 問題点があればその内容と講じた措置等
A41: １． | B41: 点呼の実施、運転者に対する指導監督の実施状況
A42: (1) | B42: 点呼の際、運転者の運転免許証の携行及び有効期限の確認を確実に行うとともに、運行経路の指示や、あおり運転の禁止等道路交通法の遵守について、十分な指導・監督を行うなど事故防止対策が図られているか。
A43: (2) | B43: 適性診断結果を活用した指導を行っているか。特に、高齢の運転者に対し、加齢に伴う身体機能の変化の程度に応じた安全な運転方法について指導を行っているか。
A44: (3) | B44: 事故が発生した際は、その事故の実態を確実に把握し、十分な指導・監督を行うなど事故防止対策が図られているか。
A45: (4) | B45: 運転中の携帯電話、スマートフォンの使用禁止について、運転者に対し指導・監督を行っているか。
A46: (5) | B46: 過積載運行等の防止を図っているか。
A47: (6) | B47: 過積載、暴走等を助長するような車両の不正改造（例：不正な二次架装、速度抑制装置の機能の解除、前面ガラス等への装飾板の取付、さし枠の取付、突入防止装置の取外し、点滅灯火の取付け等）の防止が徹底されているか。
A48: (7) | B48: 交差点での右左折時をはじめとした歩行者等との事故を防止するため、運転者に対し、以下の事項を徹底しているか。 ・自動車の構造上の特性（視野、死角、内輪差、等）を理解させ、直前、側方、後方などの見えない部分に配慮した運転が必要であることを認識させること。 ・道路には、歩行者や自転車などが通行しており、それぞれの行動を理解し走行時に配慮することにより、事故を回避できることを認識させること。 ・歩道側の植え込みなどにより見通しの悪い交差点では、歩行者や自転車が飛び出してくる可能性が高いことから、一時停止または徐行し、注意して走行することが必要であることを認識させること。
A49: (8) | B49: 路上横臥者との轢過事故等を防止するため、夕暮れ時における前照灯の早めの点灯及び、暗い道等での走行用前照灯（上向き）とすれ違い用前照灯（下向き）の小まめな切替えを励行すること。
A50: ２． | B50: コンテナ輸送における安全対策の実施状況
A51: (1) | B51: コンテナの運送開始前に、トレーラの荷台とコンテナを固定する緊締装置のロックを徹底するよう運転者に指導しているか。（コンテナ輸送がない場合は○を記載。）
A52: (2) | B52: トラクタ・トレーラの構造上の特性と、当該特性及びコンテナ内貨物の状態を踏まえた運転時の適切な運転操作について運転者に指導しているか。（コンテナ輸送がない場合は○を記載。）
... A63: (2) | B63: 不審者情報の入手及び不審な宅配便等貨物を発見した場合の警察への連絡等適切に対応できる体制が整っているか。
A64: ６． | B64: =様式１バス!B73 -> 新型インフルエンザ等の対応マニュアル、事業継続計画の策定状況、対策に必要な物資等の備蓄状況及び職場における感染防止対策の周知・徹底状況などの感染症対策の実施状況
A65: (1) | B65: 職場内におけるうがい、手洗い及び消毒用アルコールを使用した手指消毒の徹底が図られているか。
A66: (2) | B66: インフルエンザ等の流行に備え、中核となる事業の継続あるいは早期復旧を可能とするために、平常時に行うべき活動や緊急時における事業継続のための方法、手段などを取り決めておく事業継続計画、または対応マニュアルが策定されているか。
A68: 点 検 項 目 | C68: 実施回数 | D68: 備 考
A69: 総点検期間中に経営トップ等の幹部が現場視察を実施した回数
A70: 注）「点検結果」欄には○（良好）、×（改善を要する）を記入下さい。

Sheet 様式１バスターミナル
A1: 自主点検表（バスターミナル）
D3: 事業所名：
D4: バスターミナル名： | F4: 一般・専用
D5: 点検実施日：
A7: 点検事項 | C7: 点検結果 | D7: 問題点があればその内容と講じた措置等
A8: ３． | B8: バスターミナルの保守点検の実施状況
A9: (1) | B9: 保安設備の点検整備
A10: ① | B10: 道路の出口付近における安全確認のための整備等の整備状況（信号機、反射鏡、見通し等の状況）
A11: ② | B11: バスターミナル構内における車両の通行の安全確保のための設備等の整備状況（信号機、反射鏡、見通し等の状況）
A12: ③ | B12: バスターミナル構内における歩行者の通行の安全確保のための設備等の整備状況（信号機、警報機、路側帯、横断歩道、非常口等の状況）
A13: ④ | B13: 防火設備、消火器等器具の点検・整備状況
A14: ⑤ | B14: 緊急時における防火体制等の整備状況
A15: (2) | B15: 混雑時における整理・誘導等の安全確保の状況（保安要員等の配置、案内放送、ターミナル構内における車両駐車状況等）
A16: (3) | B16: 建設中及び工事中における安全確保と安全対策の実施状況
A17: ４． | B17: 自然災害、事故等発生時の乗客等の安全確保のための通報・連絡・指示体制の整備・構築状況
A18: (1) | B18: 自然災害・事故・事件等発生時（テロ発生時を除く。）における対応措置（連絡通報体制、避難誘導体制等）を整備・構築し、これらが機能するよう、実践的な訓練を実施しているか。
A19: (2) | B19: 自然災害の発生に備えて、施設等の安全確保のための措置を講じているか。
... A27: (6) | B27: ゴミ箱の閉鎖又は集約化を実施しているか。
A28: ６． | B28: =様式１バス!B73 -> 新型インフルエンザ等の対応マニュアル、事業継続計画の策定状況、対策に必要な物資等の備蓄状況及び職場における感染防止対策の周知・徹底状況などの感染症対策の実施状況
A29: (1) | B29: ポスター類の掲示、放送などにより、バスターミナル構内におけるマスク着用、咳エチケット等を呼びかけているか。
A30: (2) | B30: 職場内におけるうがい、手洗い及び消毒用アルコールを使用した手指消毒の徹底が図られているか。
A31: (3) | B31: インフルエンザ等の流行に備え、中核となる事業の継続あるいは早期復旧を可能とするために、平常時に行うべき活動や緊急時における事業継続のための方法、手段などを取り決めておく事業継続計画、または対応マニュアルが策定されているか。
A33: 点 検 項 目 | C33: 実施回数 | D33: 備 考
A34: 総点検期間中に経営トップ等の幹部が現場視察を実施した回数
A35: 注）「点検結果」欄には○（良好）、×（改善を要する）を記入すること。

Sheet 様式１自動車道
A1: 自主点検表（自動車道）
D3: 事業所名：
D4: 路線名： | F4: 一般・専用
D5: 点検実施日：
A7: 点検事項 | C7: 点検結果 | D7: 問題点があればその内容と講じた措置等
A8: ３． | B8: 自動車道の保守点検の実施状況
A9: (1) | B9: 管理体制と人員配置状況
A10: (2) | B10: 路面、排水設備の整備状況
A11: （3） | B11: 法面危険箇所の点検整備
A12: (4) | B12: 構造物の状況
A13: (5) | B13: 防護整備の状況
A14: (6) | B14: 信号通信、標識掲示類及び照明設備の整備状況
A15: (7) | B15: 緊急時の設備点検状況
A16: ４． | B16: 自然災害、事故等発生時の乗客等の安全確保のための通報・連絡・指示体制の整備・構築状況
A17: (1) | B17: 自然災害・事故・事件等発生時（テロ発生時を除く。）における対応措置（連絡通報体制、避難誘導体制等）を整備・構築し、これらが機能するよう、実践的な訓練を実施しているか。
A18: (2) | B18: 自然災害の発生に備えて、道路設備等の安全確保のための措置を講じているか。
A19: (3) | B19: 「自動車運送事業者等用緊急時対応マニュアル」にある速報対象となる事故・事件が発生した場合、当該マニュアルに従い、速やかに各地方運輸支局等緊急連絡担当先へ連絡できる体制を整えているか。
... A22: (2) | B22: テロ発生時における対応措置（連絡通報体制、避難誘導等体制）が整備・構築しているか。
A23: ６． | B23: =様式１バス!B73 -> 新型インフルエンザ等の対応マニュアル、事業継続計画の策定状況、対策に必要な物資等の備蓄状況及び職場における感染防止対策の周知・徹底状況などの感染症対策の実施状況
A24: (1) | B24: ポスター類の掲示、放送などにより、施設におけるマスク着用、咳エチケット等を呼びかけているか。
A25: (2) | B25: 職場内におけるうがい、手洗い及び消毒用アルコールを使用した手指消毒の徹底が図られているか。
A26: (3) | B26: インフルエンザ等の流行に備え、中核となる事業の継続あるいは早期復旧を可能とするために、平常時に行うべき活動や緊急時における事業継続のための方法、手段などを取り決めておく事業継続計画、または対応マニュアルが策定されているか。
A28: 点 検 項 目 | C28: 実施回数 | D28: 備 考
A29: 総点検期間中に経営トップ等の幹部が現場視察を実施した回数
A30: 注）「点検結果」欄には○（良好）、×（改善を要する）を記入すること。

Sheet 様式２バス 
A1: 立入点検表（バス）
D2: 運輸局名：
D3: 事業所名：
D4: 点検実施日：
A6: 重 点 点 検 事 項 | C6: 点検結果 | D6: 問題点があればその内容と講じた措置等
A7: １． | B7: 軽井沢スキーバス事故を踏まえた貸切バスの安全対策の実施状況（「安全・安心な貸切バスの運行を実現するための総合的な対策」に係る点検事項） | C7: ※貸切バス事業者に限ります。
A8: (1) | B8: 選任すべき運行管理者の数を満たしているか。また、補助者を選任している場合は、国に届出を行っているか。
A9: (2) | B9: 「ドライブレコーダーにより記録すべき情報及びドライブレコーダーの性能要件を定める告示」に定める要件を満たすドライブレコーダーの記録を利用した運転者への指導・監督を実施しているか。
A10: (3) | B10: すべての初任運転者及び事故惹起運転者に適性診断を受診させ、実技訓練等の指導・監督を実施しているか。（該当者がいない場合、実施体制を構築済みであれば「〇」、そうでなければ「×」を記載。）
A11: (4) | B11: 運転者に直近１年間に乗務していなかった車種区分の自動車を運転させる場合に、初任運転者と同様の指導・監督を実施しているか。（該当者がいない場合、実施体制を構築済みであれば「〇」、そうでなければ「×」を記載。）
A12: (5) | B12: 夜間、長距離の運行等、乗務の途中に点呼が必要な場合に、確実に実施しているか。（該当の運行がない場合は「〇」を記載。）
A13: (6) | B13: 乗客の安全を確保するため、シートベルトを座席に埋没させないなど、乗客が常時着用することができる状態にしているか。
A14: (7) | B14: 車内放送、リーフレット等により乗客にシートベルトの着用を促すとともに、発車前に乗客のシートベルトの着用状況を目視等により確認しているか。
A15: (8) | B15: 乗客等の安全・安心確保の観点から、運賃・料金制度を遵守しているか。
A16: (9) | B16: 貸切バス予防整備ガイドラインに基づく整備サイクル表を作成し、適切な予防整備を実施しているか。
A17: (10) | B17: 点呼を確実に実施しているか。
A18: (11) | B18: 適切な運行計画を作成し、運転者に指示をしているか。
A19: (12) | B19: 適切な運転操作や道路交通法等の法令遵守の徹底等運行の安全を確保するために遵守すべき事項について指導しているか。（フットブレーキの使い方に関する指導を含む。）
... A54: (3) | B54: 大雪及び暴風雪に備え、冬用タイヤの装着、チェーンの携行及び早めの装着の徹底等、輸送の安全確保が図られているか。 なお、降積雪期において降雪地域を運行しない場合は「〇」を記載する。
A55: 点 検 事 項 | C55: 点検結果 | D55: 問題点があればその内容と講じた措置等
A56: １． | B56: 点呼の実施、運転者に対する指導監督の実施状況
A57: (1) | B57: 点呼の際、運転者の運転免許証の携行及び有効期限の確認を確実に行うとともに、運行経路の指示や、あおり運転の禁止等道路交通法の遵守について、十分な指導・監督を行うなど事故防止対策が図られているか。
A58: (2) | B58: 適性診断結果を活用した指導を行っているか。特に、高齢の運転者に対し、加齢に伴う身体機能の変化の程度に応じた安全な運転方法について指導を行っているか。
A59: (3) | B59: 事故が発生した際は、その事故の実態を確実に把握し、十分な指導・監督を行うなど事故防止対策が図られているか。
A60: (4) | B60: 運転中の携帯電話、スマートフォンの使用禁止について、運転者に対し指導・監督を行っているか。
A61: (7) | B61: 交差点での右左折時をはじめとした歩行者等との事故を防止するため、運転者に対し、以下の事項を徹底しているか。 ・自動車の構造上の特性（視野、死角、内輪差、等）を理解させ、直前、側方、後方などの見えない部分に配慮した運転が必要であることを認識させること。 ・道路には、歩行者や自転車などが通行しており、それぞれの行動を理解し走行時に配慮することにより、事故を回避できることを認識させること。 ・歩道側の植え込みなどにより見通しの悪い交差点では、歩行者や自転車が飛び出してくる可能性が高いことから、一時停止または徐行し、注意して走行することが必要であることを認識させること。
A62: （８） | B62: 路上横臥者との轢過事故等を防止するため、夕暮れ時における前照灯の早めの点灯及び、暗い道等での走行用前照灯（上向き）とすれ違い用前照灯（下向き）の小まめな切替えを励行すること。
A63: ４． | B63: 自然災害、事故等発生時の乗客等の安全確保のための通報・連絡・指示体制の整備・構築状況
A64: (1) | B64: 自然災害・事故・事件等発生時（テロ発生時を除く。）における対応措置（連絡通報体制、避難誘導体制等）を整備・構築し、これらが機能するよう、実践的な訓練を実施しているか。
A65: (2) | B65: 自然災害の発生に備えて、営業所や車庫、車両等の安全確保のための措置を講じているか。
A66: (4) | B66: 「自動車運送事業者等用緊急時対応マニュアル」にある速報対象となる事故・事件が発生した場合、当該マニュアルに従い、速やかに各地方運輸支局等緊急連絡担当先へ連絡できる体制を整えているか。
A67: (5) | B67: 貸切バス事業者においては損害賠償責任保険のてん補する額に制限がない内容となっているか。
... A73: (5) | B73: 対応要領を職員へ周知しているか。
A74: ６． | B74: =様式１バス!B73 -> 新型インフルエンザ等の対応マニュアル、事業継続計画の策定状況、対策に必要な物資等の備蓄状況及び職場における感染防止対策の周知・徹底状況などの感染症対策の実施状況
A75: (1) | B75: ポスター類の掲示、放送などにより、公共交通機関の車内・構内等におけるマスク着用、咳エチケット等を呼びかけているか。
A76: (2) | B76: 職場内におけるうがい、手洗い及び消毒用アルコールを使用した手指消毒の徹底が図られているか。
A77: (3) | B77: インフルエンザ等の流行に備え、中核となる事業の継続あるいは早期復旧を可能とするために、平常時に行うべき活動や緊急時における事業継続のための方法、手段などを取り決めておく事業継続計画、または対応マニュアルが策定されているか。
A79: 点 検 項 目 | C79: 実施回数 | D79: 備 考
A80: 総点検期間中に経営トップ等の幹部が現場視察を実施した回数
A81: 注）「点検結果」欄には○（良好）、×（改善を要する）を記入下さい。

Sheet 様式２ハイタク
A1: 立入点検表（ハイタク）
D2: 運輸局名：
D3: 事業所名：
D4: 点検実施日：
A6: 重 点 点 検 事 項 | C6: 点検結果 | D6: 問題点があればその内容と講じた措置等
A7: ２． | B7: 健康管理体制の状況
A8: (1) | B8: 定期健康診断において、要再検査や要精密検査、要治療の所見がある場合には、当該運転者に医師の診断等を受けさせ、医師の判断により必要に応じて、所見に応じた検査を受診させるとともに、これらの結果を把握し、医師から結果に基づく運転者の乗務に係る意見を聴取しているか。（上記所見がない場合は○を記載。）
A9: (2) | B9: 医師からの意見等を勘案し、運転者について、乗務の継続、業務転換、乗務時間の短縮、夜間乗務の回数の削減等の就業上の措置を決定するとともに、当該運転者の健康状態を継続的に把握しているか。
A10: (3) | B10: 「事業用自動車の運転者の健康管理マニュアル」に記載されている乗務中における運行中止の判断目安等に従って、以下の事項を適切に実施するための体制を整備しているか。 ・乗務前点呼において、運転者が安全に乗務できる健康状態かどうかを判断し、乗務の可否を決定 ・運行中の運転者の体調変化等による運行中止等の判断・指示
A11: (4) | B11: 運転者に対して運行中に体調の異変を感じた時に、無理に運行を続けると非常に危険であることを理解させ、運行中に体調の異常を少しでも感じた場合、速やかに営業所に連絡する等の指導を徹底しているか。
A12: (5) | B12: 脳・心疾患や睡眠障害等の運転に支障を及ぼすおそれのある疾病等の着実かつ早期の発見のため、当該疾病に関するスクリーニング検査等を運転者に受診させているか。 （「事業用自動車の運転者の健康管理マニュアル」において推奨事項としていることから、実施している又は検討中の場合は「○」、実施していない又は検討していない場合は「×」を記載。）
A13: ３． | B13: 運転者に過労運転を行わせないための安全対策の実施状況
A14: (1) | B14: 「自動車運転者の労働時間等の改善のための基準」告示の内容（特に長距離運転又は夜間運転の際の乗務時間）を遵守しているか。
A15: ４． | B15: =様式１バス!B32 -> 飲酒運転を未然に防ぐため、アルコール検知器の使用を徹底し、乗務前及び乗務後に厳正な点呼を実施しているか。
A16: (1) | B16: 飲酒運転を未然に防ぐため、アルコール検知器の使用を徹底し、乗務前及び乗務後に厳正な点呼を実施しているか。
A17: (2) | B17: 運転者等に対して、飲酒運転防止に対する指導・啓発活動を実施しているか。
A18: (3) | B18: 飲酒を習慣にしている運転者等を把握し、翌日に乗務がある場合の飲酒等について指導しているか。
A19: (4) | B19: 覚せい剤や危険ドラッグ等の薬物使用防止に対する指導・啓発活動を実施しているか。
A20: (5) | B20: 運行経路にフェリーを組み入れている場合には、抜き打ちでフェリーに乗船するなどにより、乗船中の運転者の飲酒の有無など休息状況を点検しているか。（運行経路にフェリーを組み入れていない場合は○を記載。）
A21: (6) | B21: 飲酒の習慣のある運転者に対し、「アルコール依存症スクリーニングテスト」等により運転者のアルコール依存傾向を把握し適切な指導及び監督を行っているか。 依存症スクリーニングテスト（(独)久里浜医療センター） URL：https://kurihama.hosp.go.jp/hospital/screening/
A22: (7) | B22: アルコールへの依存傾向を把握するため、特に影響があるとされる肝機能や尿酸等の健康診断結果を確認するとともに、アルコール依存の疑いがある運転者に対し指導を行っているか。
A23: ５． | B23: 車両の日常点検整備、定期点検整備等の実施状況
A24: (１) | B24: 車輪脱落事故や車両火災事故及び車体腐食事故をはじめとした整備不良事故を防ぐため、自動車点検基準に基づく日常点検及び定期点検が確実に実施されているか。
A25: (２) | B25: 自動車の点検整備等に関する社内規程の内容について、整備管理者や整備担当者、運転者等への周知徹底が図られているか。
A26: 6． | B26: 大雪に対する輸送の安全確保の実施状況
A27: （1） | B27: 気象情報（大雪や雪崩、暴風雪等に関する警報・注意報を含む。）や道路における降雪状況等を適時に把握することにより、運行経路の道路情報、道路規制情報、気象情報に基づき、乗務員に適切な指示を行える体制を構築しているか。 なお、降積雪期において降雪地域を運行しない場合は「〇」を記載する。
... A29: (３) | B29: 大雪及び暴風雪に備え、冬用タイヤの装着、チェーンの携行及び早めの装着の徹底等、輸送の安全確保が図られているか。 なお、降積雪期において降雪地域を運行しない場合は「〇」を記載する。
A30: 点検事項 | C30: 点検結果 | D30: 問題点があればその内容と講じた措置等
A31: １． | B31: =様式１バス!B56 -> 点呼の際、運転者の運転免許証の携行及び有効期限の確認を確実に行うとともに、運行経路の指示や、あおり運転の禁止等道路交通法の遵守について、十分な指導・監督を行うなど事故防止対策が図られているか。
A32: (1) | B32: 点呼の際、運転者の運転免許証の携行及び有効期限の確認を確実に行うとともに、運行経路の指示や、あおり運転の禁止等道路交通法の遵守について、十分な指導・監督を行うなど事故防止対策が図られているか。
A33: (2) | B33: 適性診断結果を活用した指導を行っているか。特に、高齢の運転者に対し、加齢に伴う身体機能の変化の程度に応じた安全な運転方法について指導を行っているか。
A34: (3) | B34: 事故が発生した際は、その事故の実態を確実に把握し、十分な指導・監督を行うなど事故防止対策が図られているか。
A35: (4) | B35: 運転中の携帯電話、スマートフォンの使用禁止について、運転者に対し指導・監督を行っているか。
A36: (7) | B36: 交差点での右左折時をはじめとした歩行者等との事故を防止するため、運転者に対し、以下の事項を徹底しているか。 ・自動車の構造上の特性（視野、死角、内輪差、等）を理解させ、直前、側方、後方などの見えない部分に配慮した運転が必要であることを認識させること。 ・道路には、歩行者や自転車などが通行しており、それぞれの行動を理解し走行時に配慮することにより、事故を回避できることを認識させること。 ・歩道側の植え込みなどにより見通しの悪い交差点では、歩行者や自転車が飛び出してくる可能性が高いことから、一時停止または徐行し、注意して走行することが必要であることを認識させること。
A37: （8） | B37: 路上横臥者との轢過事故等を防止するため、夕暮れ時における前照灯の早めの点灯及び、暗い道等での走行用前照灯（上向き）とすれ違い用前照灯（下向き）の小まめな切替えを励行すること。
A38: ４． | B38: 自然災害、事故等発生時の乗客等の安全確保のための通報・連絡・指示体制の整備・構築状況
A39: (1) | B39: 自然災害・事故・事件等発生時（テロ発生時を除く。）における対応措置（連絡通報体制、避難誘導体制等）を整備・構築し、これらが機能するよう、実践的な訓練を実施しているか。
A40: (2) | B40: 自然災害の発生に備えて、営業所や車庫、車両等の安全確保のための措置を講じているか。
A41: (4) | B41: 「自動車運送事業者等用緊急時対応マニュアル」にある速報対象となる事故・事件が発生した場合、当該マニュアルに従い、速やかに各地方運輸支局等緊急連絡担当先へ連絡できる体制を整えているか。
A42: ５． | B42: テロ防止のための警戒体制の整備状況や乗客等の安心確保のための取組、テロ発生時の通報・連絡・指示体制の整備状況及びテロ発生を想定した訓練の実施状況
A43: (1) | B43: 始業・終業時等における車内の点検及び営業所・車庫内外の巡回が徹底して実施されているか。
... A48: (3) | B48: インフルエンザ等の流行に備え、中核となる事業の継続あるいは早期復旧を可能とするために、平常時に行うべき活動や緊急時における事業継続のための方法、手段などを取り決めておく事業継続計画、または対応マニュアルが策定されているか。
A50: 点 検 項 目 | C50: 実施回数 | D50: 備 考
A51: 総点検期間中に経営トップ等の幹部が現場視察を実施した回数
A52: 注）「点検結果」欄には○（良好）、×（改善を要する）を記入下さい。
F59: - | H59: -
H60: -

Sheet 様式2トラック 
A1: 立入点検表（トラック）
D2: 運輸局名：
D3: 事業所名：
D4: 点検実施日：
A6: 重 点 点 検 事 項 | C6: 点検結果 | D6: 問題点があればその内容と講じた措置等
A7: ２． | B7: 健康管理体制の状況
A8: (1) | B8: 定期健康診断において、要再検査や要精密検査、要治療の所見がある場合には、当該運転者に医師の診断等を受けさせ、医師の判断により必要に応じて、所見に応じた検査を受診させるとともに、これらの結果を把握し、医師から結果に基づく運転者の乗務に係る意見を聴取しているか。（上記所見がない場合は○を記載。）
A9: (2) | B9: 医師からの意見等を勘案し、運転者について、乗務の継続、業務転換、乗務時間の短縮、夜間乗務の回数の削減等の就業上の措置を決定するとともに、当該運転者の健康状態を継続的に把握しているか。
A10: (3) | B10: 「事業用自動車の運転者の健康管理マニュアル」に記載されている乗務中における運行中止の判断目安等に従って、以下の事項を適切に実施するための体制を整備しているか。 ・乗務前点呼において、運転者が安全に乗務できる健康状態かどうかを判断し、乗務の可否を決定 ・運行中の運転者の体調変化等による運行中止等の判断・指示
A11: (4) | B11: 運転者に対して運行中に体調の異変を感じた時に、無理に運行を続けると非常に危険であることを理解させ、運行中に体調の異常を少しでも感じた場合、速やかに営業所に連絡する等の指導を徹底しているか。
A12: (5) | B12: 脳・心疾患や睡眠障害等の運転に支障を及ぼすおそれのある疾病等の着実かつ早期の発見のため、当該疾病に関するスクリーニング検査等を運転者に受診させているか。 （「事業用自動車の運転者の健康管理マニュアル」において推奨事項としていることから、実施している又は検討中の場合は「○」、実施していない又は検討していない場合は「×」を記載。）
A13: ３． | B13: 運転者に過労運転を行わせないための安全対策の実施状況
A14: (1) | B14: 「自動車運転者の労働時間等の改善のための基準」告示の内容（特に長距離運転又は夜間運転の際の乗務時間）を遵守しているか。
A15: (2) | B15: 適切な運行指示書の作成及び適切な指示をしているか。
A16: ４． | B16: 運転者に飲酒運転や薬物運転等を行わせないための安全対策の実施状況
A17: (1) | B17: 飲酒運転を未然に防ぐため、アルコール検知器の使用を徹底し、乗務前及び乗務後に厳正な点呼を実施しているか。
A18: (2) | B18: 運転者等に対して、飲酒運転防止に対する指導・啓発活動を実施しているか。
... A40: (3) | B40: 大雪及び暴風雪に備え、冬用タイヤの装着、チェーンの携行及び早めの装着の徹底等、輸送の安全確保が図られているか。 なお、降積雪期において降雪地域を運行しない場合は「〇」を記載する。
A41: 点 検 事 項 | C41: 点検結果 | D41: 問題点があればその内容と講じた措置等
A42: １． | B42: 点呼の実施、運転者に対する指導監督の実施状況
A43: (1) | B43: 点呼の際、運転者の運転免許証の携行及び有効期限の確認を確実に行うとともに、運行経路の指示や、あおり運転の禁止等道路交通法の遵守について、十分な指導・監督を行うなど事故防止対策が図られているか。
A44: (2) | B44: 適性診断結果を活用した指導を行っているか。特に、高齢の運転者に対し、加齢に伴う身体機能の変化の程度に応じた安全な運転方法について指導を行っているか。
A45: (3) | B45: 事故が発生した際は、その事故の実態を確実に把握し、十分な指導・監督を行うなど事故防止対策が図られているか。
A46: (4) | B46: 運転中の携帯電話、スマートフォンの使用禁止について、運転者に対し指導・監督を行っているか。
A47: (5) | B47: 過積載運行等の防止を図っているか。
A48: (6) | B48: 過積載、暴走等を助長するような車両の不正改造（例：不正な二次架装、速度抑制装置の機能の解除、前面ガラス等への装飾板の取付、さし枠の取付、突入防止装置の取外し、点滅灯火の取付け等）の防止が徹底されているか。
A49: (7) | B49: 交差点での右左折時をはじめとした歩行者等との事故を防止するため、運転者に対し、以下の事項を徹底しているか。 ・自動車の構造上の特性（視野、死角、内輪差、等）を理解させ、直前、側方、後方などの見えない部分に配慮した運転が必要であることを認識させること。 ・道路には、歩行者や自転車などが通行しており、それぞれの行動を理解し走行時に配慮することにより、事故を回避できることを認識させること。 ・歩道側の植え込みなどにより見通しの悪い交差点では、歩行者や自転車が飛び出してくる可能性が高いことから、一時停止または徐行し、注意して走行することが必要であることを認識させること。
A50: （8） | B50: 路上横臥者との轢過事故等を防止するため、夕暮れ時における前照灯の早めの点灯及び、暗い道等での走行用前照灯（上向き）とすれ違い用前照灯（下向き）の小まめな切替えを励行すること。
A51: ２． | B51: コンテナ輸送における安全対策の実施状況
A52: (1) | B52: コンテナの運送開始前に、トレーラの荷台とコンテナを固定する緊締装置のロックを徹底するよう運転者に指導しているか。（コンテナ輸送がない場合は○を記載。）
A53: (2) | B53: トラクタ・トレーラの構造上の特性と、当該特性及びコンテナ内貨物の状態を踏まえた運転時の適切な運転操作について運転者に指導しているか。（コンテナ輸送がない場合は○を記載。）
... A67: (2) | B67: インフルエンザ等の流行に備え、中核となる事業の継続あるいは早期復旧を可能とするために、平常時に行うべき活動や緊急時における事業継続のための方法、手段などを取り決めておく事業継続計画、または対応マニュアルが策定されているか。
A69: 点 検 項 目 | C69: 実施回数 | D69: 備 考
A70: 総点検期間中に経営トップ等の幹部が現場視察を実施した回数
A71: 注）「点検結果」欄には○（良好）、×（改善を要する）を記入下さい。

Sheet 様式2バスターミナル
A1: 立入点検表（バスターミナル）
D3: 運輸局名：
D4: 事業所名：
D5: バスターミナル名： | F5: 一般・専用
D6: 点検実施日：
A8: 点検事項 | C8: 点検結果 | D8: 問題点があればその内容と講じた措置等
A9: ３． | B9: バスターミナルの保守点検の実施状況
A10: (1) | B10: 保安設備の点検整備
A11: ① | B11: 道路の出口付近における安全確認のための整備等の整備状況（信号機、反射鏡、見通し等の状況）
A12: ② | B12: バスターミナル構内における車両の通行の安全確保のための設備等の整備状況（信号機、反射鏡、見通し等の状況）
A13: ③ | B13: バスターミナル構内における歩行者の通行の安全確保のための設備等の整備状況（信号機、警報機、路側帯、横断歩道、非常口等の状況）
A14: ④ | B14: 防火設備、消火器等器具の点検・整備状況
A15: ⑤ | B15: 緊急時における防火体制等の整備状況
A16: (2) | B16: 混雑時における整理・誘導等の安全確保の状況（保安要員等の配置、案内放送、ターミナル構内における車両駐車状況等）
A17: (3) | B17: 建設中及び工事中における安全確保と安全対策の実施状況
A18: ４． | B18: 自然災害、事故等発生時の乗客等の安全確保のための通報・連絡・指示体制の整備・構築状況
A19: (1) | B19: 自然災害・事故・事件等発生時（テロ発生時を除く。）における対応措置（連絡通報体制、避難誘導体制等）を整備・構築し、これらが機能するよう、実践的な訓練を実施しているか。
A20: (2) | B20: 自然災害の発生に備えて、施設等の安全確保のための措置を講じているか。
... A32: (3) | B32: インフルエンザ等の流行に備え、中核となる事業の継続あるいは早期復旧を可能とするために、平常時に行うべき活動や緊急時における事業継続のための方法、手段などを取り決めておく事業継続計画、または対応マニュアルが策定されているか。
A34: 点 検 項 目 | C34: 実施回数 | D34: 備 考
A35: 総点検期間中に経営トップ等の幹部が現場視察を実施した回数
A36: 注）「点検結果」欄には○（良好）、×（改善を要する）を記入すること。

Sheet 様式2自動車道
A1: 立入点検表（自動車道）
D3: 運輸局名：
D4: 事業所名：
D5: 路線名： | F5: 一般・専用
D6: 点検実施日：
A8: 点検事項 | C8: 点検結果 | D8: 問題点があればその内容と講じた措置等
A9: ３． | B9: 自動車道の保守点検の実施状況
A10: (1) | B10: 管理体制と人員配置状況
A11: (2) | B11: 路面、排水設備の整備状況
A12: （3） | B12: 法面危険箇所の点検整備
A13: (4) | B13: 構造物の状況
A14: (5) | B14: 防護整備の状況
A15: (6) | B15: 信号通信、標識掲示類及び照明設備の整備状況
A16: (7) | B16: 緊急時の設備点検状況
A17: ４． | B17: 自然災害、事故等発生時の乗客等の安全確保のための通報・連絡・指示体制の整備・構築状況
A18: (1) | B18: 自然災害・事故・事件等発生時（テロ発生時を除く。）における対応措置（連絡通報体制、避難誘導体制等）を整備・構築し、これらが機能するよう、実践的な訓練を実施しているか。
A19: (2) | B19: 自然災害の発生に備えて、道路設備等の安全確保のための措置を講じているか。
A20: (3) | B20: 「自動車運送事業者等用緊急時対応マニュアル」にある速報対象となる事故・事件が発生した場合、当該マニュアルに従い、速やかに各地方運輸支局等緊急連絡担当先へ連絡できる体制を整えているか。
... A27: (3) | B27: インフルエンザ等の流行に備え、中核となる事業の継続あるいは早期復旧を可能とするために、平常時に行うべき活動や緊急時における事業継続のための方法、手段などを取り決めておく事業継続計画、または対応マニュアルが策定されているか。
A29: 点 検 項 目 | C29: 実施回数 | D29: 備 考
A30: 総点検期間中に経営トップ等の幹部が現場視察を実施した回数
A31: 注）「点検結果」欄には○（良好）、×（改善を要する）を記入すること。

Sheet 点検の着眼点（自動車道）
A1: 点検の着眼点（自動車道関係）
A3: 点検事項 | C3: 点検項目 | E3: 着眼点
A4: ３． | B4: 自動車道の保守点検の実施状況
A5: -1 | B5: 管理体制と人員配置状況 | C5: ① | D5: 維持管理要領の整備 | E5: ａ．平常時管理体制の有無 ｂ．異常気象時管理体制 ・警戒体制の有無 ・緊急体制の有無 ｃ．道路パトロール実施 ・パトロール実施要領の有無 ア 危険箇所調書の有無 イ 巡回時の着眼点の有無 ウ パトロール日誌の有無 エ 定期パトロール報告書の有無 オ 異常気象等パトロール報告書の有無 ｄ．通行規則の実施 ・通行規則実施要領の有無 ア 通行規則基準表の有無 イ 通行規則実施状況表の有無 ｅ．交通安全施設の点検及び整備 ・交通安全施設の設置基準の有無 ｆ．自動車事故の把握・報告及び災害報告 ・集計表の有無 ・事故報告書の有無
C6: ② | D6: 人員の確保 | E6: ａ．土木の知識を有する職員が配置されているか
A7: -2 | B7: 路面、排水設備の整備状況 | C7: ① | D7: 舗装面、路肩、路側法面の状況 | E7: ａ．舗装面に凹部はないか。またクラックの状況はどうか ｂ．路肩が損傷されずに保たれているか ｃ．法面は安定しているか
C8: ② | D8: 路面標識 | E8: ａ．適正な標識となっているか（はみ出し通行禁止標識等） ｂ．不明瞭となっていないか
C9: ③ | D9: 側溝、枡、暗渠、透水管等 | E9: ａ．土砂、ごみ等がつまってないか ｂ．施設の破損はないか ｃ．流末処理に異状はないか ｄ．蓋がはずれてないか
A10: -3 | B10: 法面危険箇所の点検整備 | C10: ① | D10: 地滑り、落石、河川の水衝部等の危険箇所 | E10: ａ．法面や路面にクラックは発生していないか ｂ．浮石はないか ｃ．法面は安定してるか
C11: ② | D11: 法面防護工の異常箇所 | E11: ａ．適切な落石対策工が施されているか ｂ．落石対策網のネットは破損していないか、又落石防止柵に岩石がたまりすぎていないか ｃ．モルタル吹付に破損、剥落はないか
A12: -4 | B12: 構造物の状況 | C12: ① | D12: 橋梁、トンネル、擁壁、護岸等 | E12: ａ．伸縮継手部に異物等が混入してないか ｂ．クラック、破損、沈下はないか ｃ．漏水はないか ｄ．非常用施設、照明施設等に異状はないか
A13: -5 | B13: 防護整備の状況 | C13: ① | D13: ガードレール、ガードロープ、保安柵、緊急退避所等 | E13: ａ．自動車の走行上危険な箇所に設置してあるか ｂ．構造・規格は妥当か ｃ．基礎はしっかりしているか
A14: -6 | B14: 信号通信、標識掲示類及び照明設備の整備状況 | C14: ① | D14: 信号機 | E14: ａ．腐朽又は損傷してないか ｂ．漏電、絶縁不良のおそれはないか ｃ．機能が不良になってないか
C15: ② | D15: 通信機 | E15: ａ．腐朽又は損傷してないか ｂ．漏電、絶縁不良のおそれはないか ｃ．機能が不良になってないか
C16: ③ | D16: 照明設備 | E16: ａ．腐朽又は損傷してないか ｂ．漏電、絶縁不良のおそれはないか ｃ．機能が不良になってないか
C17: ④ | D17: 警報設備 | E17: ａ．腐朽又は損傷してないか ｂ．漏電、絶縁不良のおそれはないか ｃ．機能が不良になってないか
C18: ⑤ | D18: 供用約款、保安上の供用制限 | E18: ａ．適正な場所に掲示されているか
C19: ⑥ | D19: 自動車道標識 | E19: ａ．適正な標識が適正な場所に設置されているか、又樹木等により見えにくくなってないか
C20: ⑦ | D20: 案内、注意看板、反射鏡等 | E20: ａ．道路反射鏡、視線誘導表の設置は適正か、又道路反射鏡の向きは適正か ｂ．二輪車に対する注意看板等は充分か
A21: -7 | B21: 緊急時の設備点検状況 | C21: ① | D21: 機械・器具類の整備
C22: ② | D22: 消火・避難用具の整備状況

Sheet 様式3-2
A1: 街頭検査の実施状況
F3: 出 動 延 べ 人 員 | Z3: (注1)｢その他｣の主な団体名
A4: 項 目 | D4: 出動回数 | F4: 国土交通省関係 | L4: 自動車技術 総合機構 | O4: 警察 | R4: その他(注1) | U4: 合 計
F5: 検査要員 | H5: その他 | J5: 小 計
A6: 実 績 | E6: 回 | G6: 名 | I6: 名 | J6: =SUM(F6,H6) -> 0 | K6: 名 | N6: 名 | Q6: 名 | T6: 名 | U6: =SUM(R6,O6,L6,J6) -> 0 | W6: 名
A8: 項 目 | C8: 検査車両数 | F8: 自動車検査証の 有効期間切れ台数 | G8: 整備命令発令件数 | J8: 装置別保安基準不適合箇所数
D9: うち | J9: 同一性・構造 | K9: 操縦 | L9: 緩衝 | M9: 走行 | N9: 原動機・動力伝達 | P9: 制動 | Q9: 保安装置 | S9: 電気・灯火類 | U9: 乗車 | V9: 車枠・車体 | Z9: 騒音・排ガス | AB9: 機器検査・その他 | AD9: 合計
D10: 整備不良車両数 | E10: うち | O10: うち | R10: うち | T10: うち | W10: うち | X10: うち | Y10: うち | AA10: うち | AC10: うち
E11: 不正改造車両数 | O11: 速度抑制装置 | R11: 着色フィルム | T11: 灯火の色 | W11: 回転部分の突出 | X11: 突入防止装置 の取外し等 | Y11: さし枠の取付け | AA11: 消音器の 取外し等 | AC11: ＣＯ・ＨＣガス
A12: 実 績 | G12: 法第５４条 | AD12: =SUM(I12:Q12,S12,U12:AB12) -> 0
G13: 法第５４条の２ | AD13: =SUM(I13:Q13,S13,U13:AB13) -> 0
A14: 注２．１台の車両に法第５４条に基づく整備命令と第５４条の２に基づく整備命令を同時に発令した場合には、各々の欄に計上すること。
A15: 注３．「整備不良車両数」及び「不正改造車両数」には、「自動車検査証の有効期間切れ」は含めないこと。
A17: 街頭検査の実施結果に対する地方運輸局の所見

Sheet 様式3-3
A1: 実施結果報告書（バスターミナル、自動車道関係）
A3: １．総点検実施状況
D4: バスターミナル | F4: 自動車道
D5: 一般 | E5: 専用 | F5: 一般 | G5: 専用
A6: 管内の事業者数（Ａ）
D7: 0 | E7: 0 | F7: 0 | G7: 0
A8: 総点検を実施した事業者数（Ｂ）
D9: 0 | E9: 0 | F9: 0 | G9: 0
A10: 当局が査察等を実施した事業者数（Ｃ）
D11: 0 | E11: 0 | F11: 0 | G11: 0
A12: 実施率（％） | B12: 事業者実施（Ｂ／Ａ） | D12: =IFERROR(D8/D6, "") | E12: =IFERROR(E8/E6, "") | F12: =IFERROR(F8/F6, "") | G12: =IFERROR(G8/G6, "")
D13: =IFERROR(D9/D7, "") | E13: =IFERROR(E9/E7, "") | F13: =IFERROR(F9/F7, "") | G13: =IFERROR(G9/G7, "")
B14: 当局実施（Ｃ／Ａ） | D14: =IFERROR(D10/D6, "") | E14: =IFERROR(E10/E6, "") | F14: =IFERROR(F10/F6, "") | G14: =IFERROR(G10/G6, "")
D15: =IFERROR(D11/D7, "") | E15: =IFERROR(E11/E7, "") | F15: =IFERROR(F11/F7, "") | G15: =IFERROR(G11/G7, "")
A16: 総点検期間中に経営トップ等の幹部が現場視察を実施した回数
A17: （注） 下段（ ）は、バスターミナルについてはターミナル数、自動車道については路線数を記入すること。
A19: ２．安全総点検の実施結果（バスターミナルは別紙１、自動車道は別紙２に記入すること。）
A21: ３．安全総点検の結果についての地方運輸局の所見
A24: ４．バスターミナル、自動車道に生じた欠陥
A25: 種 別 | D25: 件 数 | E25: 事故の処理状況 | G25: 備 考
E26: 適 | F26: 否
A27: バスターミナル | C27: 一般
C28: 専用
A29: 自動車道 | C29: 一般
C30: 専用
A31: （注）１．バスターミナルに係る欠陥とは、自動車ターミナル法施行規則第１６条及び第１７条の規程
A32: に該当することをいう。
A33: ２．自動車道に係る欠陥とは、道路運送法第６８条第３号の規定に該当することをいう。

Sheet 別紙1（様式3-3関係）
A1: ２．安全総点検の実施結果（バスターミナル）
A2: 点 検 項 目 | C2: 一 般 | E2: 専 用 | G2: 備 考
C3: 良好と判断された事業者数 | D3: 改善を指導した事業者数 | E3: 良好と判断された事業者数 | F3: 改善を指導した事業者数
A4: ３． | B4: バスターミナルの保守点検の実施状況
A5: (1) | B5: 保安設備の点検整備
A6: ① | B6: 道路の出口付近における安全確認のための整備等の整備状況（信号機、反射鏡、見通し等の状況）
A7: ② | B7: バスターミナル構内における車両の通行の安全確保のための設備等の整備状況（信号機、反射鏡、見通し等の状況）
A8: ③ | B8: バスターミナル構内における歩行者の通行の安全確保のための設備等の整備状況（信号機、警報機、路側帯、横断歩道、非常口等の状況）
A9: ④ | B9: 防火設備、消火器等器具の点検・整備状況
A10: ⑤ | B10: 緊急時における防火体制等の整備状況
A11: (2) | B11: 混雑時における整理・誘導等の安全確保の状況（保安要員等の配置、案内放送、ターミナル構内における車両駐車状況等）
A12: (3) | B12: 建設中及び工事中における安全確保と安全対策の実施状況
A13: ４． | B13: 自然災害、事故等発生時の乗客等の安全・安心確保のための通報・連絡・指示体制の整備・構築状況
A14: (1) | B14: 自然災害・事故・事件等発生時（テロ発生時を除く。）における対応措置（連絡通報体制、避難誘導体制等）を整備・構築し、これらが機能するよう、実践的な訓練を実施しているか。
A15: (2) | B15: 自然災害の発生に備えて、施設等の安全確保のための措置を講じているか。
... A27: (3) | B27: インフルエンザ等の流行に備え、中核となる事業の継続あるいは早期復旧を可能とするために、平常時に行うべき活動や緊急時における事業継続のための方法、手段などを取り決めておく事業継続計画、または対応マニュアルが策定されているか。

Sheet 別紙2（様式3-1関係）
A1: ４．安全総点検期間中の重大事故発生状況
C3: 区分 | D3: 合 計 | G3: 転覆 | J3: 転落 | M3: 路外逸脱 | P3: 火災 | S3: 踏切 | V3: 衝突 | Y3: 車内 | AB3: 死傷 | AE3: 健康起因 | AH3: 危険物等 | AK3: その他
A4: 業態 | D4: 件数 | E4: 死者 | F4: 傷者 | G4: 件数 | H4: 死者 | I4: 傷者 | J4: 件数 | K4: 死者 | L4: 傷者 | M4: 件数 | N4: 死者 | O4: 傷者 | P4: 件数 | Q4: 死者 | R4: 傷者 | S4: 件数 | T4: 死者 | U4: 傷者 | V4: 件数 | W4: 死者 | X4: 傷者 | Y4: 件数 | Z4: 死者 | AA4: 傷者 | AB4: 件数 | AC4: 死者 | AD4: 傷者 | AE4: 件数 | AF4: 死者 | AG4: 傷者 | AH4: 件数 | AI4: 死者 | AJ4: 傷者 | AK4: 件数 | AL4: 死者 | AM4: 傷者
A5: バス | D5: =SUM(G5,J5,M5,P5,S5,V5,Y5,AB5,AE5,AH5,AK5,) -> 0 | E5: =SUM(H5,K5,N5,Q5,T5,W5,Z5,AC5,AF5,AI5,AL5) -> 0 | F5: =SUM(I5,L5,O5,R5,U5,X5,AA5,AD5,AG5,AJ5,AM5) -> 0
D6: 0 | E6: 0 | F6: 0 | G6: 0 | H6: 0 | I6: 0 | J6: 0 | K6: 0 | L6: 0 | M6: 0 | N6: 0 | O6: 0 | P6: 0 | Q6: 0 | R6: 0 | S6: 0 | T6: 0 | U6: 0 | V6: 0 | W6: 0 | X6: 0 | Y6: 0 | Z6: 0 | AA6: 0 | AB6: 0 | AC6: 0 | AD6: 0 | AE6: 0 | AF6: 0 | AG6: 0 | AH6: 0 | AI6: 0 | AJ6: 0 | AK6: 0 | AL6: 0 | AM6: 0
A7: ハイタク | D7: =SUM(G7,J7,M7,P7,S7,V7,Y7,AB7,AE7,AH7,AK7,) -> 0 | E7: =SUM(H7,K7,N7,Q7,T7,W7,Z7,AC7,AF7,AI7,AL7) -> 0 | F7: =SUM(I7,L7,O7,R7,U7,X7,AA7,AD7,AG7,AJ7,AM7) -> 0
D8: 0 | E8: 0 | F8: 0 | G8: 0 | H8: 0 | I8: 0 | J8: 0 | K8: 0 | L8: 0 | M8: 0 | N8: 0 | O8: 0 | P8: 0 | Q8: 0 | R8: 0 | S8: 0 | T8: 0 | U8: 0 | V8: 0 | W8: 0 | X8: 0 | Y8: 0 | Z8: 0 | AA8: 0 | AB8: 0 | AC8: 0 | AD8: 0 | AE8: 0 | AF8: 0 | AG8: 0 | AH8: 0 | AI8: 0 | AJ8: 0 | AK8: 0 | AL8: 0 | AM8: 0
A9: トラック | D9: =SUM(G9,J9,M9,P9,S9,V9,Y9,AB9,AE9,AH9,AK9,) -> 0 | E9: =SUM(H9,K9,N9,Q9,T9,W9,Z9,AC9,AF9,AI9,AL9) -> 0 | F9: =SUM(I9,L9,O9,R9,U9,X9,AA9,AD9,AG9,AJ9,AM9) -> 0
D10: 0 | E10: 0 | F10: 0 | G10: 0 | H10: 0 | I10: 0 | J10: 0 | K10: 0 | L10: 0 | M10: 0 | N10: 0 | O10: 0 | P10: 0 | Q10: 0 | R10: 0 | S10: 0 | T10: 0 | U10: 0 | V10: 0 | W10: 0 | X10: 0 | Y10: 0 | Z10: 0 | AA10: 0 | AB10: 0 | AC10: 0 | AD10: 0 | AE10: 0 | AF10: 0 | AG10: 0 | AH10: 0 | AI10: 0 | AJ10: 0 | AK10: 0 | AL10: 0 | AM10: 0
A11: 合 計 | D11: =SUM(D5,D7,D9) -> 0 | E11: =SUM(E5,E7,E9) -> 0 | F11: =SUM(F5,F7,F9) -> 0 | G11: =SUM(G5,G7,G9) -> 0 | H11: =SUM(H5,H7,H9) -> 0 | I11: =SUM(I5,I7,I9) -> 0 | J11: =SUM(J5,J7,J9) -> 0 | K11: =SUM(K5,K7,K9) -> 0 | ... AM11: =SUM(AM5,AM7,AM9) -> 0
D12: =SUM(D6,D8,D10) -> 0 | E12: =SUM(E6,E8,E10) -> 0 | F12: =SUM(F6,F8,F10) -> 0 | G12: =SUM(G6,G8,G10) -> 0 | H12: =SUM(H6,H8,H10) -> 0 | I12: =SUM(I6,I8,I10) -> 0 | J12: =SUM(J6,J8,J10) -> 0 | K12: =SUM(K6,K8,K10) -> 0 | ... AM12: =SUM(AM6,AM8,AM10) -> 0
A13: （注） | C13: １．「自動車事故報告規則」に該当する事故を対象とすること。
C14: ２．有責事故は（ ）内に内数で記入すること。

Sheet 別紙2（様式3-3関係）
A1: ２．安全総点検の実施結果（自動車道）
A2: 点 検 項 目 | C2: 一 般 | E2: 専 用 | G2: 備 考
C3: 良好と判断された事業者数 | D3: 改善を指導した事業者数 | E3: 良好と判断された事業者数 | F3: 改善を指導した事業者数
A4: ３． | B4: 自動車道の保守点検の実施状況
A5: (1) | B5: 管理体制と人員配置状況
A6: ① | B6: 維持管理要領の整備
A7: ② | B7: 人員の確保
A8: (2) | B8: 路面、排水設備の整備状況
A9: ① | B9: 舗装面、路肩、路側法面の状況
A10: ② | B10: 路面標識
A11: ③ | B11: 側溝、枡、暗渠、透水管等
A12: (3) | B12: 法面危険箇所の点検整備
A13: ① | B13: 地滑り、落石、河川の水衝部等の危険箇所
A14: ② | B14: 法面防護工の異常箇所
A15: (4) | B15: 構造物の状況
... A40: (3) | B40: インフルエンザ等の流行に備え、中核となる事業の継続あるいは早期復旧を可能とするために、平常時に行うべき活動や緊急時における事業継続のための方法、手段などを取り決めておく事業継続計画、または対応マニュアルが策定されているか。
